BEGIN:VCALENDAR
VERSION:2.0
PRODID:-//VINYLOFF RECORDS - ECPv6.6.3//NONSGML v1.0//EN
CALSCALE:GREGORIAN
METHOD:PUBLISH
X-WR-CALNAME:VINYLOFF RECORDS
X-ORIGINAL-URL:https://vinyloffrecords.com
X-WR-CALDESC:évènements pour VINYLOFF RECORDS
REFRESH-INTERVAL;VALUE=DURATION:PT1H
X-Robots-Tag:noindex
X-PUBLISHED-TTL:PT1H
BEGIN:VTIMEZONE
TZID:Europe/Paris
BEGIN:DAYLIGHT
TZOFFSETFROM:+0100
TZOFFSETTO:+0200
TZNAME:CEST
DTSTART:20230326T010000
END:DAYLIGHT
BEGIN:STANDARD
TZOFFSETFROM:+0200
TZOFFSETTO:+0100
TZNAME:CET
DTSTART:20231029T010000
END:STANDARD
END:VTIMEZONE
BEGIN:VEVENT
DTSTART;TZID=Europe/Paris:20230704T210000
DTEND;TZID=Europe/Paris:20230704T233000
DTSTAMP:20260424T225218
CREATED:20230623T083437Z
LAST-MODIFIED:20230623T130042Z
UID:2885-1688504400-1688513400@vinyloffrecords.com
SUMMARY:Milenah - Ouverture Festival Garçon La Note / Le Sub Auxerre
DESCRIPTION:Soirée musiques urbaines\, scène ouverte rap
URL:https://vinyloffrecords.com/agenda/milenah-ouverture-festival-garcon-la-note/
LOCATION:le Sub\, 9 Place des Cordeliers\, Auxerre\, 89000\, France
CATEGORIES:MILENAH
END:VEVENT
END:VCALENDAR