BEGIN:VCALENDAR
VERSION:2.0
PRODID:-//VINYLOFF RECORDS - ECPv6.6.3//NONSGML v1.0//EN
CALSCALE:GREGORIAN
METHOD:PUBLISH
X-ORIGINAL-URL:https://vinyloffrecords.com
X-WR-CALDESC:évènements pour VINYLOFF RECORDS
REFRESH-INTERVAL;VALUE=DURATION:PT1H
X-Robots-Tag:noindex
X-PUBLISHED-TTL:PT1H
BEGIN:VTIMEZONE
TZID:Europe/Paris
BEGIN:DAYLIGHT
TZOFFSETFROM:+0100
TZOFFSETTO:+0200
TZNAME:CEST
DTSTART:20230326T010000
END:DAYLIGHT
BEGIN:STANDARD
TZOFFSETFROM:+0200
TZOFFSETTO:+0100
TZNAME:CET
DTSTART:20231029T010000
END:STANDARD
END:VTIMEZONE
BEGIN:VEVENT
DTSTART;TZID=Europe/Paris:20230722T203000
DTEND;TZID=Europe/Paris:20230722T233000
DTSTAMP:20260424T225423
CREATED:20230623T102739Z
LAST-MODIFIED:20230623T130003Z
UID:2913-1690057800-1690068600@vinyloffrecords.com
SUMMARY:Afreeboat / la Guinguette - Migennes
DESCRIPTION:
URL:https://vinyloffrecords.com/agenda/afreeboat-la-guinguette-migennes/
LOCATION:L’Escale / La guinguette – Cap Migenne Plages\, Migennes\, 89400\, France
CATEGORIES:AFREEBOAT
END:VEVENT
END:VCALENDAR