BEGIN:VCALENDAR
VERSION:2.0
PRODID:-//VINYLOFF RECORDS - ECPv6.6.3//NONSGML v1.0//EN
CALSCALE:GREGORIAN
METHOD:PUBLISH
X-WR-CALNAME:VINYLOFF RECORDS
X-ORIGINAL-URL:https://vinyloffrecords.com
X-WR-CALDESC:évènements pour VINYLOFF RECORDS
REFRESH-INTERVAL;VALUE=DURATION:PT1H
X-Robots-Tag:noindex
X-PUBLISHED-TTL:PT1H
BEGIN:VTIMEZONE
TZID:Europe/Paris
BEGIN:DAYLIGHT
TZOFFSETFROM:+0100
TZOFFSETTO:+0200
TZNAME:CEST
DTSTART:20230326T010000
END:DAYLIGHT
BEGIN:STANDARD
TZOFFSETFROM:+0200
TZOFFSETTO:+0100
TZNAME:CET
DTSTART:20231029T010000
END:STANDARD
END:VTIMEZONE
BEGIN:VEVENT
DTSTART;TZID=Europe/Paris:20230731T210000
DTEND;TZID=Europe/Paris:20230731T233000
DTSTAMP:20260424T212321
CREATED:20230623T120150Z
LAST-MODIFIED:20230623T120318Z
UID:2915-1690837200-1690846200@vinyloffrecords.com
SUMMARY:Pepin et ses pommettes - Festival Garçon La Note / Sens (89)
DESCRIPTION:
URL:https://vinyloffrecords.com/agenda/pepin-et-ses-pommettes-festival-garcon-la-note-sens-89/
LOCATION:Sens\, Sens\, 89100\, France
CATEGORIES:PÉPIN ET SES POMMETTES
END:VEVENT
END:VCALENDAR