BEGIN:VCALENDAR
VERSION:2.0
PRODID:-//VINYLOFF RECORDS - ECPv6.6.3//NONSGML v1.0//EN
CALSCALE:GREGORIAN
METHOD:PUBLISH
X-ORIGINAL-URL:https://vinyloffrecords.com
X-WR-CALDESC:évènements pour VINYLOFF RECORDS
REFRESH-INTERVAL;VALUE=DURATION:PT1H
X-Robots-Tag:noindex
X-PUBLISHED-TTL:PT1H
BEGIN:VTIMEZONE
TZID:Europe/Paris
BEGIN:DAYLIGHT
TZOFFSETFROM:+0100
TZOFFSETTO:+0200
TZNAME:CEST
DTSTART:20230326T010000
END:DAYLIGHT
BEGIN:STANDARD
TZOFFSETFROM:+0200
TZOFFSETTO:+0100
TZNAME:CET
DTSTART:20231029T010000
END:STANDARD
END:VTIMEZONE
BEGIN:VEVENT
DTSTART;TZID=Europe/Paris:20230801T210000
DTEND;TZID=Europe/Paris:20230801T230000
DTSTAMP:20260424T213133
CREATED:20230623T120252Z
LAST-MODIFIED:20230623T120252Z
UID:2917-1690923600-1690930800@vinyloffrecords.com
SUMMARY: Pepin et ses pommettes -  Festival Garçon La Note /  La scène des quais Auxerre (89)
DESCRIPTION:
URL:https://vinyloffrecords.com/agenda/pepin-et-ses-pommettes-festival-garcon-la-note-la-scene-des-quais-auxerre-89/
LOCATION: La scène des quais\, Quai de la République\, Auxerre\, 89000\, France
CATEGORIES:PÉPIN ET SES POMMETTES
END:VEVENT
END:VCALENDAR