BEGIN:VCALENDAR
VERSION:2.0
PRODID:-//VINYLOFF RECORDS - ECPv6.6.3//NONSGML v1.0//EN
CALSCALE:GREGORIAN
METHOD:PUBLISH
X-WR-CALNAME:VINYLOFF RECORDS
X-ORIGINAL-URL:https://vinyloffrecords.com
X-WR-CALDESC:évènements pour VINYLOFF RECORDS
REFRESH-INTERVAL;VALUE=DURATION:PT1H
X-Robots-Tag:noindex
X-PUBLISHED-TTL:PT1H
BEGIN:VTIMEZONE
TZID:Europe/Paris
BEGIN:DAYLIGHT
TZOFFSETFROM:+0100
TZOFFSETTO:+0200
TZNAME:CEST
DTSTART:20230326T010000
END:DAYLIGHT
BEGIN:STANDARD
TZOFFSETFROM:+0200
TZOFFSETTO:+0100
TZNAME:CET
DTSTART:20231029T010000
END:STANDARD
END:VTIMEZONE
BEGIN:VEVENT
DTSTART;TZID=Europe/Paris:20230811T210000
DTEND;TZID=Europe/Paris:20230811T233000
DTSTAMP:20260424T213051
CREATED:20230623T120538Z
LAST-MODIFIED:20230623T124250Z
UID:2921-1691787600-1691796600@vinyloffrecords.com
SUMMARY:KÀn -  Festival Garçon La Note / Bar éphémère de Noé - Noé
DESCRIPTION:
URL:https://vinyloffrecords.com/agenda/kan-festival-garcon-la-note-bar-ephemere-de-noe-noe/
LOCATION:Bar éphémère de Noé\, Noé\, 89320\, France
CATEGORIES:KAN
END:VEVENT
END:VCALENDAR