BEGIN:VCALENDAR
VERSION:2.0
PRODID:-//VINYLOFF RECORDS - ECPv6.6.3//NONSGML v1.0//EN
CALSCALE:GREGORIAN
METHOD:PUBLISH
X-WR-CALNAME:VINYLOFF RECORDS
X-ORIGINAL-URL:https://vinyloffrecords.com
X-WR-CALDESC:évènements pour VINYLOFF RECORDS
REFRESH-INTERVAL;VALUE=DURATION:PT1H
X-Robots-Tag:noindex
X-PUBLISHED-TTL:PT1H
BEGIN:VTIMEZONE
TZID:Europe/Paris
BEGIN:DAYLIGHT
TZOFFSETFROM:+0100
TZOFFSETTO:+0200
TZNAME:CEST
DTSTART:20230326T010000
END:DAYLIGHT
BEGIN:STANDARD
TZOFFSETFROM:+0200
TZOFFSETTO:+0100
TZNAME:CET
DTSTART:20231029T010000
END:STANDARD
END:VTIMEZONE
BEGIN:VEVENT
DTSTART;TZID=Europe/Paris:20231202T200000
DTEND;TZID=Europe/Paris:20231203T003000
DTSTAMP:20260424T145455
CREATED:20231123T193436Z
LAST-MODIFIED:20231124T213827Z
UID:3730-1701547200-1701563400@vinyloffrecords.com
SUMMARY:Soirée VINYLOFF RECORDS à la Patate Sauvage
DESCRIPTION:// INFOS //\nSoirée du label VINYLOFF RECORDS\nPour commencer sa 2ème année d’existence\, le label VINYLOFF RECORDS vous invite à une soirée de folie où le jazz de combat de PAMELA TULPA cotoiera le multigroove d’AFREEBOAT ! Venez découvrir ou retrouver les groupes de ce label Bourguigno-Parisien coopératif et protéiforme. On vous réserve de belles surprises !\nLA PATATE SAUVAGE vous accueillera aux petits oignons pour une de ses dernières soirées avant son déménagement\, profitez en pour venir soutenir et découvrir ce lieux autogéré\, ou lui faire une dernière grosse fête en bonne et due forme ! \nQU’EST CE QUI VOUS ATTEND AU PROGRAMME ? \n// PAMELA TULPA //\nhttps://www.facebook.com/Pamelatulpajazzdecombat/?locale=fr_FR\nhttps://vinyloffrecords.com/band/pamela-tulpa/\nPamela Tulpa c’est du jazz de combat : rythmiques funk et sauvages\, métriques composées\, formes cassées et surprises viennent nourrir un groove hargneux mais doux pour l’âme.\nCar dans la lutte une histoire se dessine\, portée par le chant du saxophone auquel répondent guitare et violoncelle dans un duel dansant. C’est une musique festive destinée au live\, aux influences Trap\, Pop\, Funk et Techno.\nUn album signé chez VINYLOFF RECORDS est actuellement en préparation \n// AFREEBOAT //\nhttps://www.facebook.com/Afreeboat?locale=fr_FR\nhttps://vinyloffrecords.com/band/afreeboat/\nAfreeboat ça tranche dans le vif\, incisif et furtif\, en deux temps trois mouvements ça t’embarque jusqu’au bout de la nuit. Le boat fait couler l’encre\, sans se presser\, où d’ici dansent nos vies sans ancrage.\nAvec rage les poèmes chantent sur le tempo dans les affres au beat\, alors TAPE TES PEAUX\, AIME !\nUn 2e album signé chez VINYLOFF RECORDS est actuellement en préparation \n  \n// INFOS PRATIQUES //\nEntrée à prix libre\nBuvette Sauvage\nPAS DE CB SUR PLACE\nHoraires :\n20h-01h\nAdresse :\nLa Patate Sauvage\n41\, rue ferragus 93500 Aubervilliers \nwww.sephar.org \nVoir moins
URL:https://vinyloffrecords.com/agenda/soiree-vinyloff-records-a-la-patate-sauvage/
LOCATION:La Patate Sauvage\, 41 rue Ferragus\, Paris\, Aubervilliers\, France
CATEGORIES:AFREEBOAT,PAMELA TULPA
ATTACH;FMTTYPE=image/jpeg:https://vinyloffrecords.com/wp-content/uploads/2023/11/405009901_832301652231227_8831913535904149596_n.jpg
END:VEVENT
END:VCALENDAR