BEGIN:VCALENDAR
VERSION:2.0
PRODID:-//VINYLOFF RECORDS - ECPv6.6.3//NONSGML v1.0//EN
CALSCALE:GREGORIAN
METHOD:PUBLISH
X-ORIGINAL-URL:https://vinyloffrecords.com
X-WR-CALDESC:évènements pour VINYLOFF RECORDS
REFRESH-INTERVAL;VALUE=DURATION:PT1H
X-Robots-Tag:noindex
X-PUBLISHED-TTL:PT1H
BEGIN:VTIMEZONE
TZID:Europe/Paris
BEGIN:DAYLIGHT
TZOFFSETFROM:+0100
TZOFFSETTO:+0200
TZNAME:CEST
DTSTART:20240331T010000
END:DAYLIGHT
BEGIN:STANDARD
TZOFFSETFROM:+0200
TZOFFSETTO:+0100
TZNAME:CET
DTSTART:20241027T010000
END:STANDARD
END:VTIMEZONE
BEGIN:VEVENT
DTSTART;TZID=Europe/Paris:20240116T210000
DTEND;TZID=Europe/Paris:20240116T210000
DTSTAMP:20260424T131618
CREATED:20240114T004713Z
LAST-MODIFIED:20240114T005053Z
UID:3852-1705438800-1705438800@vinyloffrecords.com
SUMMARY:KÀN / Cabaret l’Escale
DESCRIPTION:Triocéphale rockambolesque et décapop.\nkÀn\, l’insondable instinct de l’instant\, ou comment des riffs de guitare décisifs entremêlés d’une voix barock rencontrent une rythmique soubassophone/batterie groovy et acérée. \nTarif unique : 7 euros\nGratuit pour les abonné.e.s
URL:https://vinyloffrecords.com/agenda/kan-cabaret-lescale/
LOCATION:Cabaret l’Escale\, 1-3 allée Johnny Hallyday\, MIGENNES\, 89400\, France
CATEGORIES:KAN
ATTACH;FMTTYPE=image/jpeg:https://vinyloffrecords.com/wp-content/uploads/2024/01/395446514_1041317493494437_5301154808858476417_n.jpg
END:VEVENT
END:VCALENDAR