BEGIN:VCALENDAR
VERSION:2.0
PRODID:-//VINYLOFF RECORDS - ECPv6.6.3//NONSGML v1.0//EN
CALSCALE:GREGORIAN
METHOD:PUBLISH
X-ORIGINAL-URL:https://vinyloffrecords.com
X-WR-CALDESC:évènements pour VINYLOFF RECORDS
REFRESH-INTERVAL;VALUE=DURATION:PT1H
X-Robots-Tag:noindex
X-PUBLISHED-TTL:PT1H
BEGIN:VTIMEZONE
TZID:Europe/Paris
BEGIN:DAYLIGHT
TZOFFSETFROM:+0100
TZOFFSETTO:+0200
TZNAME:CEST
DTSTART:20240331T010000
END:DAYLIGHT
BEGIN:STANDARD
TZOFFSETFROM:+0200
TZOFFSETTO:+0100
TZNAME:CET
DTSTART:20241027T010000
END:STANDARD
END:VTIMEZONE
BEGIN:VEVENT
DTSTART;TZID=Europe/Paris:20240216T200000
DTEND;TZID=Europe/Paris:20240216T200000
DTSTAMP:20260424T114316
CREATED:20240206T162248Z
LAST-MODIFIED:20240206T162436Z
UID:3957-1708113600-1708113600@vinyloffrecords.com
SUMMARY:LAZCAR VOLCANO  / Cabaret l'Escale - Migennes
DESCRIPTION:
URL:https://vinyloffrecords.com/agenda/lazcar-volcano-cabaret-lescale-migennes/
LOCATION:Cabaret l’Escale\, 1-3 allée Johnny Hallyday\, MIGENNES\, 89400\, France
CATEGORIES:LAZCAR VOLCANO
ATTACH;FMTTYPE=image/jpeg:https://vinyloffrecords.com/wp-content/uploads/2024/02/240216_lazcar_1.jpg
END:VEVENT
END:VCALENDAR