BEGIN:VCALENDAR
VERSION:2.0
PRODID:-//VINYLOFF RECORDS - ECPv6.6.3//NONSGML v1.0//EN
CALSCALE:GREGORIAN
METHOD:PUBLISH
X-WR-CALNAME:VINYLOFF RECORDS
X-ORIGINAL-URL:https://vinyloffrecords.com
X-WR-CALDESC:évènements pour VINYLOFF RECORDS
REFRESH-INTERVAL;VALUE=DURATION:PT1H
X-Robots-Tag:noindex
X-PUBLISHED-TTL:PT1H
BEGIN:VTIMEZONE
TZID:Europe/Paris
BEGIN:DAYLIGHT
TZOFFSETFROM:+0100
TZOFFSETTO:+0200
TZNAME:CEST
DTSTART:20240331T010000
END:DAYLIGHT
BEGIN:STANDARD
TZOFFSETFROM:+0200
TZOFFSETTO:+0100
TZNAME:CET
DTSTART:20241027T010000
END:STANDARD
END:VTIMEZONE
BEGIN:VEVENT
DTSTART;TZID=Europe/Paris:20240530T200000
DTEND;TZID=Europe/Paris:20240530T200000
DTSTAMP:20260424T043829
CREATED:20240515T153825Z
LAST-MODIFIED:20240515T153842Z
UID:4218-1717099200-1717099200@vinyloffrecords.com
SUMMARY:Pépin et ses Pomettes
DESCRIPTION:  \nTenez vous prét car Pépin débarque au Gobe lune pour un concert solo pimenté et farfelu.
URL:https://vinyloffrecords.com/agenda/pepin-et-ses-pomettes/
LOCATION:Le Gobe\, 14 rue de Bagnolet\, Paris\, France\, Paris\, 75020\, France
CATEGORIES:PÉPIN ET SES POMMETTES
ATTACH;FMTTYPE=image/jpeg:https://vinyloffrecords.com/wp-content/uploads/2024/05/433950793_1091997978654778_5408727881757576791_n.jpg
END:VEVENT
END:VCALENDAR