BEGIN:VCALENDAR
VERSION:2.0
PRODID:-//VINYLOFF RECORDS - ECPv6.6.3//NONSGML v1.0//EN
CALSCALE:GREGORIAN
METHOD:PUBLISH
X-WR-CALNAME:VINYLOFF RECORDS
X-ORIGINAL-URL:https://vinyloffrecords.com
X-WR-CALDESC:évènements pour VINYLOFF RECORDS
REFRESH-INTERVAL;VALUE=DURATION:PT1H
X-Robots-Tag:noindex
X-PUBLISHED-TTL:PT1H
BEGIN:VTIMEZONE
TZID:Europe/Paris
BEGIN:DAYLIGHT
TZOFFSETFROM:+0100
TZOFFSETTO:+0200
TZNAME:CEST
DTSTART:20240331T010000
END:DAYLIGHT
BEGIN:STANDARD
TZOFFSETFROM:+0200
TZOFFSETTO:+0100
TZNAME:CET
DTSTART:20241027T010000
END:STANDARD
END:VTIMEZONE
BEGIN:VEVENT
DTSTART;TZID=Europe/Paris:20240608T203000
DTEND;TZID=Europe/Paris:20240608T203000
DTSTAMP:20260424T043410
CREATED:20240515T155927Z
LAST-MODIFIED:20240515T160142Z
UID:4233-1717878600-1717878600@vinyloffrecords.com
SUMMARY:AFREEBOAT - La Nièvre en Fête
DESCRIPTION:ce samedi 8 juin\, la Nièvre sera en fête à l’étang de Baye. Elle sera même au sommet de son art\, avec les spectacles inventifs\, décalés et ébouriffants\, proposés par la Transverse et les Zaccros d’ma rue.\nLe programme\, nous l’avons voulu encore plus copieux que celui de\nl’année dernière\, pour faire de La Nièvre en fête ! un rendez-vous familial\, populaire\, dont chacun repartira le moral gonflé à bloc.\nCe 8 juin\, il y aura de la vie\, des idées\, des talents\, de la joie\, de l’envie.\nRejoignez-nous ! La Nièvre en fête\,\nc’est vous qui la faites !
URL:https://vinyloffrecords.com/agenda/afreeboat-la-nievre-en-fete/
LOCATION:La Transverse – Base de loisirs ACTIVITAL – Étang de Baye\, Étang de Baye\, Bazolles\, 58110
CATEGORIES:AFREEBOAT
ATTACH;FMTTYPE=image/png:https://vinyloffrecords.com/wp-content/uploads/2024/05/bandeau-Transverse-1500x725-1.png
END:VEVENT
END:VCALENDAR