BEGIN:VCALENDAR
VERSION:2.0
PRODID:-//VINYLOFF RECORDS - ECPv6.6.3//NONSGML v1.0//EN
CALSCALE:GREGORIAN
METHOD:PUBLISH
X-WR-CALNAME:VINYLOFF RECORDS
X-ORIGINAL-URL:https://vinyloffrecords.com
X-WR-CALDESC:évènements pour VINYLOFF RECORDS
REFRESH-INTERVAL;VALUE=DURATION:PT1H
X-Robots-Tag:noindex
X-PUBLISHED-TTL:PT1H
BEGIN:VTIMEZONE
TZID:Europe/Paris
BEGIN:DAYLIGHT
TZOFFSETFROM:+0100
TZOFFSETTO:+0200
TZNAME:CEST
DTSTART:20240331T010000
END:DAYLIGHT
BEGIN:STANDARD
TZOFFSETFROM:+0200
TZOFFSETTO:+0100
TZNAME:CET
DTSTART:20241027T010000
END:STANDARD
END:VTIMEZONE
BEGIN:VEVENT
DTSTART;TZID=Europe/Paris:20240629T200000
DTEND;TZID=Europe/Paris:20240629T200000
DTSTAMP:20260424T043324
CREATED:20240614T070301Z
LAST-MODIFIED:20240614T070418Z
UID:4295-1719691200-1719691200@vinyloffrecords.com
SUMMARY:Pamela Tulpa / La Poèterie - St Sauveur (89)
DESCRIPTION:
URL:https://vinyloffrecords.com/agenda/pamela-tulpa-la-poeterie-st-sauveur-89/
LOCATION:La Poeterie\, 4\, route des Janets\, Saint Sauveur En Puisaye\, 89520\, France
CATEGORIES:PAMELA TULPA
ATTACH;FMTTYPE=image/png:https://vinyloffrecords.com/wp-content/uploads/2023/10/VNF_PAMELA.png
END:VEVENT
BEGIN:VEVENT
DTSTART;TZID=Europe/Paris:20240629T200000
DTEND;TZID=Europe/Paris:20240629T200000
DTSTAMP:20260424T043324
CREATED:20240614T070549Z
LAST-MODIFIED:20240614T071050Z
UID:4298-1719691200-1719691200@vinyloffrecords.com
SUMMARY:DJ FRENDLEYKS - Fest. Dox’art / Hambye (50)  
DESCRIPTION:
URL:https://vinyloffrecords.com/agenda/dj-frendleyks-fest-doxart-hambye-50/
LOCATION:Festival Dox’art\, Hambye\, Fest. Dox’art
CATEGORIES:DJ FRENDLEYKS
ATTACH;FMTTYPE=image/jpeg:https://vinyloffrecords.com/wp-content/uploads/2024/06/393465515_879561476872550_4116010836036450381_n.jpg
END:VEVENT
END:VCALENDAR