BEGIN:VCALENDAR
VERSION:2.0
PRODID:-//VINYLOFF RECORDS - ECPv6.6.3//NONSGML v1.0//EN
CALSCALE:GREGORIAN
METHOD:PUBLISH
X-WR-CALNAME:VINYLOFF RECORDS
X-ORIGINAL-URL:https://vinyloffrecords.com
X-WR-CALDESC:évènements pour VINYLOFF RECORDS
REFRESH-INTERVAL;VALUE=DURATION:PT1H
X-Robots-Tag:noindex
X-PUBLISHED-TTL:PT1H
BEGIN:VTIMEZONE
TZID:Europe/Paris
BEGIN:DAYLIGHT
TZOFFSETFROM:+0100
TZOFFSETTO:+0200
TZNAME:CEST
DTSTART:20250330T010000
END:DAYLIGHT
BEGIN:STANDARD
TZOFFSETFROM:+0200
TZOFFSETTO:+0100
TZNAME:CET
DTSTART:20251026T010000
END:STANDARD
END:VTIMEZONE
BEGIN:VEVENT
DTSTART;TZID=Europe/Paris:20250208T200000
DTEND;TZID=Europe/Paris:20250208T200000
DTSTAMP:20260423T145033
CREATED:20250119T090116Z
LAST-MODIFIED:20250119T094326Z
UID:4530-1739044800-1739044800@vinyloffrecords.com
SUMMARY:AFREEBOAT X Les Disquaires
DESCRIPTION:AFREEBOAT\, ça tranche dans le vif\, en deux temps trois mouvements ça t’emmène jusqu’au bout de la nuit ! Un équipage survolté prêt à passer à l’abordage. Partout où il passe\, le Boat fait couler l’encre\, transportant le public dans un voyage épique.\nUne traversée entre Afrobeat\, Funk\, Rock\, Hip Hop\, aux confins d’un océan de sueur.Les cabines sont ouvertes\, embarquement immédiat ! Un 2ème album signé chez VINYLOFF RECORDS est actuellement en préparation\n• Entrée libre �• Ouverture du bar dès 17h.• Happy-hours jusqu’à 20h• Début du concert 20h30• DJ set 23h – 05h• Réserver un espace pour plus de 10 personnes : resa@lesdisquaires.com
URL:https://vinyloffrecords.com/agenda/afreeboat-x-les-disquaires/
LOCATION:Les Disquaires\, 4 rue des Taillandiers\, Paris\, 75011\, France
CATEGORIES:AFREEBOAT
ATTACH;FMTTYPE=image/png:https://vinyloffrecords.com/wp-content/uploads/2025/01/Capture-decran-2025-01-11-a-18.24.46.png
END:VEVENT
END:VCALENDAR