BEGIN:VCALENDAR
VERSION:2.0
PRODID:-//VINYLOFF RECORDS - ECPv6.6.3//NONSGML v1.0//EN
CALSCALE:GREGORIAN
METHOD:PUBLISH
X-ORIGINAL-URL:https://vinyloffrecords.com
X-WR-CALDESC:évènements pour VINYLOFF RECORDS
REFRESH-INTERVAL;VALUE=DURATION:PT1H
X-Robots-Tag:noindex
X-PUBLISHED-TTL:PT1H
BEGIN:VTIMEZONE
TZID:Europe/Paris
BEGIN:DAYLIGHT
TZOFFSETFROM:+0100
TZOFFSETTO:+0200
TZNAME:CEST
DTSTART:20230326T010000
END:DAYLIGHT
BEGIN:STANDARD
TZOFFSETFROM:+0200
TZOFFSETTO:+0100
TZNAME:CET
DTSTART:20231029T010000
END:STANDARD
END:VTIMEZONE
BEGIN:VEVENT
DTSTART;TZID=Europe/Paris:20230401T200000
DTEND;TZID=Europe/Paris:20230401T200000
DTSTAMP:20260425T011804
CREATED:20230330T095425Z
LAST-MODIFIED:20230405T144853Z
UID:2482-1680379200-1680379200@vinyloffrecords.com
SUMMARY:LES LAPINS SUPERSTARS & AFREEBOAT au Studio de l'Ermitage
DESCRIPTION:Le Label Vinyloff Records\, label bourguignon fraichement créé\, nous présente ses groupes « maisons ». Session 1.\nOn commence par des habitués du Studio de l’Ermitage\, les fameux Lapins Superstars. Ils n’en sont plus à leur coup d’essai dans leur lieu préféré de la capitale. Attendez-vous à des happenings en tout genre\, des décors surprenants et des personnalités hautes en couleurs livrées en pâture au public.\nEnsuite Afreeboat\, embarquement immédiat pour une croisière tournée vers la transe et le groove. Préparez-vous à écoper des litres et des litres de sueur. A cette occasion ils sortiront leur 1er EP. \nPRÉVENTES ICI \n 
URL:https://vinyloffrecords.com/agenda/2482/
LOCATION:Studio de L’Ermitage\, Paris\, 75011\, France
CATEGORIES:Les Lapins Superstars
ATTACH;FMTTYPE=image/jpeg:https://vinyloffrecords.com/wp-content/uploads/2023/03/230415_VNF_poeterie_event.jpg
END:VEVENT
BEGIN:VEVENT
DTSTART;TZID=Europe/Paris:20230415T200000
DTEND;TZID=Europe/Paris:20230415T233000
DTSTAMP:20260425T011804
CREATED:20230330T100417Z
LAST-MODIFIED:20230330T101555Z
UID:2485-1681588800-1681601400@vinyloffrecords.com
SUMMARY:AFREEBOAT et DJ FRENDLEYKS - La Poèterie
DESCRIPTION:
URL:https://vinyloffrecords.com/agenda/afreeboat-et-dj-frendleyks/
LOCATION:La Poeterie\, 4\, route des Janets\, Saint Sauveur En Puisaye\, 89520\, France
CATEGORIES:AFREEBOAT,DJ FRENDLEYKS
ATTACH;FMTTYPE=image/jpeg:https://vinyloffrecords.com/wp-content/uploads/2023/03/230415_VNF_poeterie_AFB_eventfb-1.jpg
END:VEVENT
BEGIN:VEVENT
DTSTART;TZID=Europe/Paris:20230422T200000
DTEND;TZID=Europe/Paris:20230422T233000
DTSTAMP:20260425T011804
CREATED:20230330T165835Z
LAST-MODIFIED:20230331T131144Z
UID:2539-1682193600-1682206200@vinyloffrecords.com
SUMMARY:ZZ&Z et UNDERTAKER au Café La Poèterie
DESCRIPTION:
URL:https://vinyloffrecords.com/agenda/zzz-et-undertaker-au-cafe-la-poeterie/
LOCATION:La Poeterie\, 4\, route des Janets\, Saint Sauveur En Puisaye\, 89520\, France
CATEGORIES:UNDERTAKER,ZZ&Z
ATTACH;FMTTYPE=image/png:https://vinyloffrecords.com/wp-content/uploads/2023/03/230422_VNF_poeterie_AFB_eventfb.png
END:VEVENT
BEGIN:VEVENT
DTSTART;TZID=Europe/Paris:20230423T200000
DTEND;TZID=Europe/Paris:20230423T200000
DTSTAMP:20260425T011804
CREATED:20230330T170138Z
LAST-MODIFIED:20230331T133409Z
UID:2541-1682280000-1682280000@vinyloffrecords.com
SUMMARY:ZZ&Z et UNDERTAKER aux Disquaires
DESCRIPTION:
URL:https://vinyloffrecords.com/agenda/zzz-et-undertaker-aux-disquaires/
LOCATION:Les Disquaires\, 4 rue des Taillandiers\, Paris\, 75011\, France
CATEGORIES:UNDERTAKER,ZZ&Z
ATTACH;FMTTYPE=image/png:https://vinyloffrecords.com/wp-content/uploads/2023/03/Capture-decran-2023-03-31-a-15.33.13.png
END:VEVENT
END:VCALENDAR