BEGIN:VCALENDAR
VERSION:2.0
PRODID:-//VINYLOFF RECORDS - ECPv6.6.3//NONSGML v1.0//EN
CALSCALE:GREGORIAN
METHOD:PUBLISH
X-WR-CALNAME:VINYLOFF RECORDS
X-ORIGINAL-URL:https://vinyloffrecords.com
X-WR-CALDESC:évènements pour VINYLOFF RECORDS
REFRESH-INTERVAL;VALUE=DURATION:PT1H
X-Robots-Tag:noindex
X-PUBLISHED-TTL:PT1H
BEGIN:VTIMEZONE
TZID:Europe/Paris
BEGIN:DAYLIGHT
TZOFFSETFROM:+0100
TZOFFSETTO:+0200
TZNAME:CEST
DTSTART:20230326T010000
END:DAYLIGHT
BEGIN:STANDARD
TZOFFSETFROM:+0200
TZOFFSETTO:+0100
TZNAME:CET
DTSTART:20231029T010000
END:STANDARD
END:VTIMEZONE
BEGIN:VEVENT
DTSTART;TZID=Europe/Paris:20230519T200000
DTEND;TZID=Europe/Paris:20230519T233000
DTSTAMP:20260425T001222
CREATED:20230322T203234Z
LAST-MODIFIED:20230330T101507Z
UID:2403-1684526400-1684539000@vinyloffrecords.com
SUMMARY:JAY STEP - LAZCAR VOLCANO - Release Party - Studio de l'Ermitage
DESCRIPTION:JAY STEP fête la sortie de son EP « First step » au studio de l’Ermitage à Paris en compagnie des LAZCAR VOLCANO. \nVenez\, toute la famille VINYLOFF RECORDS sera dans la place !
URL:https://vinyloffrecords.com/agenda/jay-step-ep-release-party/
LOCATION:Studio de L’Ermitage\, Paris\, 75011\, France
CATEGORIES:JAY STEP,LAZCAR VOLCANO
ATTACH;FMTTYPE=image/jpeg:https://vinyloffrecords.com/wp-content/uploads/2023/03/230519_VNF_ermitage_event.jpg
END:VEVENT
END:VCALENDAR