BEGIN:VCALENDAR
VERSION:2.0
PRODID:-//VINYLOFF RECORDS - ECPv6.6.3//NONSGML v1.0//EN
CALSCALE:GREGORIAN
METHOD:PUBLISH
X-WR-CALNAME:VINYLOFF RECORDS
X-ORIGINAL-URL:https://vinyloffrecords.com
X-WR-CALDESC:évènements pour VINYLOFF RECORDS
REFRESH-INTERVAL;VALUE=DURATION:PT1H
X-Robots-Tag:noindex
X-PUBLISHED-TTL:PT1H
BEGIN:VTIMEZONE
TZID:Europe/Paris
BEGIN:DAYLIGHT
TZOFFSETFROM:+0100
TZOFFSETTO:+0200
TZNAME:CEST
DTSTART:20240331T010000
END:DAYLIGHT
BEGIN:STANDARD
TZOFFSETFROM:+0200
TZOFFSETTO:+0100
TZNAME:CET
DTSTART:20241027T010000
END:STANDARD
END:VTIMEZONE
BEGIN:VEVENT
DTSTART;TZID=Europe/Paris:20240601T200000
DTEND;TZID=Europe/Paris:20240601T200000
DTSTAMP:20260424T025949
CREATED:20240515T154543Z
LAST-MODIFIED:20240515T154714Z
UID:4225-1717272000-1717272000@vinyloffrecords.com
SUMMARY:Lazcar Volcano au Diapason
DESCRIPTION:
URL:https://vinyloffrecords.com/agenda/lazcar-volcano-au-diapason/
LOCATION:Pôle Culturel Le Diapason\, 14 Rue Jean Holweg\,\, Vendenheim\, 67550\, France
CATEGORIES:LAZCAR VOLCANO
ATTACH;FMTTYPE=image/jpeg:https://vinyloffrecords.com/wp-content/uploads/2022/11/347123231_631031375564612_127166253087833774_n.jpg
END:VEVENT
BEGIN:VEVENT
DTSTART;TZID=Europe/Paris:20240602T200000
DTEND;TZID=Europe/Paris:20240602T200000
DTSTAMP:20260424T025949
CREATED:20240515T155224Z
LAST-MODIFIED:20240515T155246Z
UID:4229-1717358400-1717358400@vinyloffrecords.com
SUMMARY:Lazcar Volcano  au Moulin à Café
DESCRIPTION:
URL:https://vinyloffrecords.com/agenda/lazcar-volcano-au-moulin-a-cafe/
LOCATION:Théâtre Le Moulin à café\, Saint-Omer\, 62500\, France
CATEGORIES:LAZCAR VOLCANO
ATTACH;FMTTYPE=image/jpeg:https://vinyloffrecords.com/wp-content/uploads/2022/11/347123231_631031375564612_127166253087833774_n.jpg
END:VEVENT
BEGIN:VEVENT
DTSTART;TZID=Europe/Paris:20240608T203000
DTEND;TZID=Europe/Paris:20240608T203000
DTSTAMP:20260424T025949
CREATED:20240515T155927Z
LAST-MODIFIED:20240515T160142Z
UID:4233-1717878600-1717878600@vinyloffrecords.com
SUMMARY:AFREEBOAT - La Nièvre en Fête
DESCRIPTION:ce samedi 8 juin\, la Nièvre sera en fête à l’étang de Baye. Elle sera même au sommet de son art\, avec les spectacles inventifs\, décalés et ébouriffants\, proposés par la Transverse et les Zaccros d’ma rue.\nLe programme\, nous l’avons voulu encore plus copieux que celui de\nl’année dernière\, pour faire de La Nièvre en fête ! un rendez-vous familial\, populaire\, dont chacun repartira le moral gonflé à bloc.\nCe 8 juin\, il y aura de la vie\, des idées\, des talents\, de la joie\, de l’envie.\nRejoignez-nous ! La Nièvre en fête\,\nc’est vous qui la faites !
URL:https://vinyloffrecords.com/agenda/afreeboat-la-nievre-en-fete/
LOCATION:La Transverse – Base de loisirs ACTIVITAL – Étang de Baye\, Étang de Baye\, Bazolles\, 58110
CATEGORIES:AFREEBOAT
ATTACH;FMTTYPE=image/png:https://vinyloffrecords.com/wp-content/uploads/2024/05/bandeau-Transverse-1500x725-1.png
END:VEVENT
BEGIN:VEVENT
DTSTART;TZID=Europe/Paris:20240613T210000
DTEND;TZID=Europe/Paris:20240613T210000
DTSTAMP:20260424T025949
CREATED:20240608T065658Z
LAST-MODIFIED:20240608T070212Z
UID:4270-1718312400-1718312400@vinyloffrecords.com
SUMMARY:LAZCAR VOLCANO - Fest. Jazz in Ajacciu
DESCRIPTION:Né de l’union sulfureuse entre la Terre-Mère et un ménestrel sans le sou\, Lazcar Volcano vient d’atterrir sur le devant de la scène française\, propulsé par une éruption explosive. Sa mission : sauver le Vivant de l’emprise du formatage artistique. De sa mère éternelle\, il a hérité des super-pouvoirs des chants et des rythmes ataviques issus des traditions orales (Maloya\, Samba\, Son Cubano). Son père précaire lui a légué la puissance révoltée des sons urbains (Hip Hop\, Afro Beat\, Funk\, Ska…).
URL:https://vinyloffrecords.com/agenda/lazcar-volcano-fest-jazz-in-ajacciu/
LOCATION:Jazz in Ajacciu\, Ajaccio\, France
CATEGORIES:LAZCAR VOLCANO
ATTACH;FMTTYPE=image/jpeg:https://vinyloffrecords.com/wp-content/uploads/2022/11/347123231_631031375564612_127166253087833774_n.jpg
END:VEVENT
BEGIN:VEVENT
DTSTART;TZID=Europe/Paris:20240614T203000
DTEND;TZID=Europe/Paris:20240614T203000
DTSTAMP:20260424T025949
CREATED:20240608T070625Z
LAST-MODIFIED:20240608T070814Z
UID:4276-1718397000-1718397000@vinyloffrecords.com
SUMMARY:KÀN - Fest. des Foins /  St Germain des Champs (89)
DESCRIPTION:
URL:https://vinyloffrecords.com/agenda/kan-fest-des-foins-st-germain-des-champs-89/
LOCATION:Festival des foins – Saint-Germain-des-Champs\, Saint-Germain-des-Champs\, Saint-Germain-des-Champs\, 89630\, France
CATEGORIES:KAN
ATTACH;FMTTYPE=image/jpeg:https://vinyloffrecords.com/wp-content/uploads/2024/06/441522360_949697000491190_1932463569739156315_n.jpg
END:VEVENT
BEGIN:VEVENT
DTSTART;TZID=Europe/Paris:20240615T200000
DTEND;TZID=Europe/Paris:20240615T200000
DTSTAMP:20260424T025949
CREATED:20240608T071435Z
LAST-MODIFIED:20240608T071458Z
UID:4281-1718481600-1718481600@vinyloffrecords.com
SUMMARY:ZZ&Z - La Poèterie / St Sauveur (89)
DESCRIPTION:
URL:https://vinyloffrecords.com/agenda/zzz-la-poeterie-st-sauveur-89/
LOCATION:La Poeterie\, 4\, route des Janets\, Saint Sauveur En Puisaye\, 89520\, France
CATEGORIES:ZZ&Z
ATTACH;FMTTYPE=image/jpeg:https://vinyloffrecords.com/wp-content/uploads/2024/06/img_1232.jpg
END:VEVENT
BEGIN:VEVENT
DTSTART;TZID=Europe/Paris:20240621T200000
DTEND;TZID=Europe/Paris:20240621T200000
DTSTAMP:20260424T025949
CREATED:20240614T065731Z
LAST-MODIFIED:20240614T065915Z
UID:4293-1719000000-1719000000@vinyloffrecords.com
SUMMARY:AFREEBOAT - Fête de la musique / Corbigny
DESCRIPTION:
URL:https://vinyloffrecords.com/agenda/afreeboat-fete-de-la-musique-corbigny/
LOCATION:Corbigny\, Corbigny\, 58800\, France
CATEGORIES:AFREEBOAT
ATTACH;FMTTYPE=image/png:https://vinyloffrecords.com/wp-content/uploads/2022/11/afreeboat-logo.png
END:VEVENT
BEGIN:VEVENT
DTSTART;TZID=Europe/Paris:20240622T203000
DTEND;TZID=Europe/Paris:20240622T203000
DTSTAMP:20260424T025949
CREATED:20240614T065300Z
LAST-MODIFIED:20240614T065321Z
UID:4289-1719088200-1719088200@vinyloffrecords.com
SUMMARY:AFREEBOAT / Settons Festival
DESCRIPTION:
URL:https://vinyloffrecords.com/agenda/afreeboat-settons-festival/
LOCATION:lac des Settons\, Lac des Settons\, Montsauche-les-Settons\, 58230
CATEGORIES:AFREEBOAT
ATTACH;FMTTYPE=image/jpeg:https://vinyloffrecords.com/wp-content/uploads/2024/06/438081482_331897913254057_5992965061135627225_n.jpg
END:VEVENT
BEGIN:VEVENT
DTSTART;TZID=Europe/Paris:20240629T200000
DTEND;TZID=Europe/Paris:20240629T200000
DTSTAMP:20260424T025949
CREATED:20240614T070301Z
LAST-MODIFIED:20240614T070418Z
UID:4295-1719691200-1719691200@vinyloffrecords.com
SUMMARY:Pamela Tulpa / La Poèterie - St Sauveur (89)
DESCRIPTION:
URL:https://vinyloffrecords.com/agenda/pamela-tulpa-la-poeterie-st-sauveur-89/
LOCATION:La Poeterie\, 4\, route des Janets\, Saint Sauveur En Puisaye\, 89520\, France
CATEGORIES:PAMELA TULPA
ATTACH;FMTTYPE=image/png:https://vinyloffrecords.com/wp-content/uploads/2023/10/VNF_PAMELA.png
END:VEVENT
BEGIN:VEVENT
DTSTART;TZID=Europe/Paris:20240629T200000
DTEND;TZID=Europe/Paris:20240629T200000
DTSTAMP:20260424T025949
CREATED:20240614T070549Z
LAST-MODIFIED:20240614T071050Z
UID:4298-1719691200-1719691200@vinyloffrecords.com
SUMMARY:DJ FRENDLEYKS - Fest. Dox’art / Hambye (50)  
DESCRIPTION:
URL:https://vinyloffrecords.com/agenda/dj-frendleyks-fest-doxart-hambye-50/
LOCATION:Festival Dox’art\, Hambye\, Fest. Dox’art
CATEGORIES:DJ FRENDLEYKS
ATTACH;FMTTYPE=image/jpeg:https://vinyloffrecords.com/wp-content/uploads/2024/06/393465515_879561476872550_4116010836036450381_n.jpg
END:VEVENT
END:VCALENDAR