BEGIN:VCALENDAR
VERSION:2.0
PRODID:-//VINYLOFF RECORDS - ECPv6.6.3//NONSGML v1.0//EN
CALSCALE:GREGORIAN
METHOD:PUBLISH
X-WR-CALNAME:VINYLOFF RECORDS
X-ORIGINAL-URL:https://vinyloffrecords.com
X-WR-CALDESC:évènements pour VINYLOFF RECORDS
REFRESH-INTERVAL;VALUE=DURATION:PT1H
X-Robots-Tag:noindex
X-PUBLISHED-TTL:PT1H
BEGIN:VTIMEZONE
TZID:Europe/Paris
BEGIN:DAYLIGHT
TZOFFSETFROM:+0100
TZOFFSETTO:+0200
TZNAME:CEST
DTSTART:20240331T010000
END:DAYLIGHT
BEGIN:STANDARD
TZOFFSETFROM:+0200
TZOFFSETTO:+0100
TZNAME:CET
DTSTART:20241027T010000
END:STANDARD
END:VTIMEZONE
BEGIN:VEVENT
DTSTART;TZID=Europe/Paris:20240705T201500
DTEND;TZID=Europe/Paris:20240705T201500
DTSTAMP:20260424T011806
CREATED:20240704T215624Z
LAST-MODIFIED:20240704T215643Z
UID:4306-1720210500-1720210500@vinyloffrecords.com
SUMMARY:LAZCAR VOLCANO - Fest. L’été Frappé : Macon (71)
DESCRIPTION:
URL:https://vinyloffrecords.com/agenda/lazcar-volcano-fest-lete-frappe-macon-71/
LOCATION:Festival Été Frappé\, EsplanadeLamartine\, Mâcon\, 71000
CATEGORIES:LAZCAR VOLCANO
ATTACH;FMTTYPE=image/jpeg:https://vinyloffrecords.com/wp-content/uploads/2022/11/347123231_631031375564612_127166253087833774_n.jpg
END:VEVENT
BEGIN:VEVENT
DTSTART;TZID=Europe/Paris:20240706T190000
DTEND;TZID=Europe/Paris:20240706T190000
DTSTAMP:20260424T011806
CREATED:20240704T220945Z
LAST-MODIFIED:20240704T221126Z
UID:4316-1720292400-1720292400@vinyloffrecords.com
SUMMARY:LAZCAR VOLCANO - Fest. Chapofolies / Joigny (89)
DESCRIPTION:
URL:https://vinyloffrecords.com/agenda/lazcar-volcano-fest-chapofolies-joigny-89/
LOCATION:Festival Le Chapofolies\, Parc du Chapeau\, Joigny\, 89300
CATEGORIES:LAZCAR VOLCANO
ATTACH;FMTTYPE=image/jpeg:https://vinyloffrecords.com/wp-content/uploads/2024/07/438162936_848898880610162_5954647064242480703_n.jpg
END:VEVENT
BEGIN:VEVENT
DTSTART;TZID=Europe/Paris:20240706T200000
DTEND;TZID=Europe/Paris:20240706T200000
DTSTAMP:20260424T011806
CREATED:20240704T221942Z
LAST-MODIFIED:20240704T222150Z
UID:4321-1720296000-1720296000@vinyloffrecords.com
SUMMARY:Les Mutants de l'Espace X DJ Frendleyks - Inauguration du OH! DARLING - Asquins (89)
DESCRIPTION:
URL:https://vinyloffrecords.com/agenda/les-mutants-de-lespace-x-dj-frendleyks-inauguration-du-oh-darling-asquins89a/
LOCATION:OH! DARLING\, 26 route nationale\, Asquins\, 89450
CATEGORIES:DJ FRENDLEYKS,LES MUTANTS DE L'ESPACE
ATTACH;FMTTYPE=image/jpeg:https://vinyloffrecords.com/wp-content/uploads/2024/07/WhatsApp-Image-2024-07-03-at-17.36.39.jpeg
END:VEVENT
BEGIN:VEVENT
DTSTART;TZID=Europe/Paris:20240710T190000
DTEND;TZID=Europe/Paris:20240712T233000
DTSTAMP:20260424T011806
CREATED:20240708T150126Z
LAST-MODIFIED:20240708T150126Z
UID:4332-1720638000-1720827000@vinyloffrecords.com
SUMMARY:LES MUTANTS DE L'ESPACE -  St Raph Jazz Festival / St Raphaël (83)
DESCRIPTION:
URL:https://vinyloffrecords.com/agenda/les-mutants-de-lespace-st-raph-jazz-festival-st-raphael-83/
LOCATION:saint Raph’ Jazz festival\, saint-Raphaël\, 83118
CATEGORIES:LES MUTANTS DE L'ESPACE
ATTACH;FMTTYPE=image/png:https://vinyloffrecords.com/wp-content/uploads/2024/07/Capture-decran-2024-07-08-a-16.56.46.png
END:VEVENT
BEGIN:VEVENT
DTSTART;TZID=Europe/Paris:20240710T200000
DTEND;TZID=Europe/Paris:20240710T200000
DTSTAMP:20260424T011806
CREATED:20240708T145445Z
LAST-MODIFIED:20240708T145506Z
UID:4328-1720641600-1720641600@vinyloffrecords.com
SUMMARY:MILENAH - Garçon La Note/ Auxerre (89)
DESCRIPTION:
URL:https://vinyloffrecords.com/agenda/milenah-garcon-la-note-auxerre-89/
LOCATION:le JACAM\, 130 Rue de Paris\, Auxerre\, 89000\, France
CATEGORIES:MILENAH
ATTACH;FMTTYPE=image/jpeg:https://vinyloffrecords.com/wp-content/uploads/2023/10/Milenah-Solo-.jpeg
END:VEVENT
END:VCALENDAR