BEGIN:VCALENDAR
VERSION:2.0
PRODID:-//VINYLOFF RECORDS - ECPv6.6.3//NONSGML v1.0//EN
CALSCALE:GREGORIAN
METHOD:PUBLISH
X-ORIGINAL-URL:https://vinyloffrecords.com
X-WR-CALDESC:évènements pour VINYLOFF RECORDS
REFRESH-INTERVAL;VALUE=DURATION:PT1H
X-Robots-Tag:noindex
X-PUBLISHED-TTL:PT1H
BEGIN:VTIMEZONE
TZID:Europe/Paris
BEGIN:DAYLIGHT
TZOFFSETFROM:+0100
TZOFFSETTO:+0200
TZNAME:CEST
DTSTART:20240331T010000
END:DAYLIGHT
BEGIN:STANDARD
TZOFFSETFROM:+0200
TZOFFSETTO:+0100
TZNAME:CET
DTSTART:20241027T010000
END:STANDARD
END:VTIMEZONE
BEGIN:VEVENT
DTSTART;TZID=Europe/Paris:20241012T200000
DTEND;TZID=Europe/Paris:20241012T200000
DTSTAMP:20260423T200339
CREATED:20241010T120554Z
LAST-MODIFIED:20241010T120646Z
UID:4443-1728763200-1728763200@vinyloffrecords.com
SUMMARY:ANNIVERSAIRE VINYLOFF RECORDS // PÉPIN ET SES POMETTES X AFREEBOAT X PAMELA TULPA
DESCRIPTION:Vinyloff Records revient au Silex pour son 2ème anniversaire !\nUne soirée protéiforme qui retrace une partie de l’année qui vient de s’écouler.\n3 concerts\, 18 musicien.nes\, du GrOOve dans tous les sens\, des chansons à texte et à bulles\, des traversées épiques et cuivristiques \, du Jazz de Combat aux parfums de techno asymetrique.\nUn deuxième anniversaire qu’on t’invite chaleureusement à venir fêter dignement dans la magnifique salle du Silex\, premier partenaire de notre label coopératif.\nOn a pas tous les jours 2 ans il semblerait que qu’ça va être HISTORIQUE !!!\nINFOS PRATIQUES :\nHoraires : 20h/0h\nPlein tarif : 11€\nTarif enfant : 5€
URL:https://vinyloffrecords.com/agenda/anniversaire-vinyloff-records-pepin-et-ses-pomettes-x-afreeboat-x-pamela-tulpa/
LOCATION:Le Silex\, 7\, Rue de l'île aux plaisirs\, Auxerre\, 89000\, France
ATTACH;FMTTYPE=image/jpeg:https://vinyloffrecords.com/wp-content/uploads/2024/10/241012_VNF_SILEX_EVENT_FB_RVB_v4-scaled.jpg
END:VEVENT
BEGIN:VEVENT
DTSTART;TZID=Europe/Paris:20241022T193000
DTEND;TZID=Europe/Paris:20241022T234500
DTSTAMP:20260423T200339
CREATED:20241010T115739Z
LAST-MODIFIED:20241010T115802Z
UID:4439-1729625400-1729640700@vinyloffrecords.com
SUMMARY:RELEASE PARTY // PAMELA TULPA X COCCOLITE
DESCRIPTION:Bienvenu.e.s à la boule noire pour la release party du nouvel album de PAMELA TULPA : L’Onirisme Du Bail\nSoirée de combat \, de musique énergique et sensuelle avec en co-plateau COCCOLITE \n \nPamela Tulpa vient sur scène pour distribuer des claques et des caresses parfois\, c’est du jazz de combat.\nLe 25/10/2024 sortira leur nouvel album chez Vinyloff Records\, il s’appelle l’Onirisme du Bail\, oui.\nLe quartet s’y installe en représentant du son du Terroir et de Paris-Est. Un savant mélange\, le violoncelle et le saxophone qui répondent aux rythmiques\, la transe qui s’installe. Sauvage comme un perroquet\, Pamela c’est du jazz mais pas que. Mêler les genres et emmêler les gens.\nInstagram : www.instagram.com/pamelatulpa/.\nFacebook : https://www.facebook.com/Pamelatulpajazzdecombat\nSite internet: https://vinyloffrecords.com/artistes/ \nCoccolite\nFidèle à son esthétique « fusionnelle »\, le groupe a mis en œuvre des techniques de production empruntées aux musiques urbaines les plus actuelles\, pour fabriquer un son d’ensemble acéré d’une extraordinaire puissance organique. Les compositions cinématiques\, aux scénarios complexes et changeant\, articulent avec alchimie des grooves épileptiques relevant des musiques les plus actuelles (Trap\, Drill\, musique électronique sous toutes ses formes) à des textures et timbres mêlant sonorités synthétiques et acoustiques\, avec un vrai sens des couleurs et des matières. Au fil d’un scénario de science-fiction\, le trio embarque l’auditeur aux confins de la transe. « Extrasystole » projette un monde âpre\, violent\, oppressant\, sombre\, mais aussi animé d’une vraie énergie vitale empreint de mélancolie néo romantique qui\, paradoxalement\, vient contredire la catastrophe annoncée en réintroduisant du corps\, du désir et du sentiment dans l’implacable destin machinique qui nous menace. Julien Sérié\, Nicolas Derand et Timothée Robert développent avec maestria une musique « environnementale »\, à la fois onirique\, ultra-sensorielle et puissamment dramatique.\nsite internet : https://coccolitemusic.com/\nFB : https://www.facebook.com/coccolitemusic/?locale=fr_FR\nInstagram : https://www.instagram.com/coccolitemusic/?hl=fr\nLien Video :https://www.youtube.com/watch?v=MCOTbgXmM-A
URL:https://vinyloffrecords.com/agenda/release-party-pamela-tulpa-x-coccolite/
LOCATION:La Boule Noire\, 120 Blvd Marguerite de Rochechouart\, Paris\, 75018\, France
CATEGORIES:PAMELA TULPA
ATTACH;FMTTYPE=image/jpeg:https://vinyloffrecords.com/wp-content/uploads/2024/10/461274190_27829571719975335_5091807892612468860_n.jpg
END:VEVENT
END:VCALENDAR